Workbook

Sheet Distribution input form
A8: Electricity Distribution Performance Reporting Form
A10: Reporting year | B10: FY2024-25
A11: Licence holder | B11: Western Power (EDL1)
A13: Contact person name
A14: Position
A15: Email address | B15: enquiry@westernpower.com.au
A16: Phone number | B16: 13 10 87
A18: Reporting category | B18: Description | C18: Indicator | D18: Unit | E18: Data input | F18: Comments
A19: Network & Asset Information
A20: Customer connections
B21: New connections provided | C21: CCD1 | D21: Number of | E21: 20060
B22: New connections not provided by the agreed date | C22: CCD2 | D22: Number of | E22: 241
B23: Reconnections provided | C23: CCD4 | D23: Number of | E23: 29333
B24: Reconnections that were not provided within the prescribed time | C24: CCD5 | D24: Number of | E24: 73
B25: Connections on the distribution system as of June 30 | C25: CCD7 | D25: Number of | E25: 1217607 | F25: The number of 1,218,307 reported in 2023/24 was overstated as it included connections using more than 160MWh/annum. The correct number for 2023/24 was 1,201,830. The reporting criteria used by Western Power has been inaccurate for several reporting periods because a report for connections below 160MWh was not available and incorrect assumptions were made when reporting. A newly developed report has corrected the inaccuracies, and this report is a solid base for future reporting. See attached sheet "CCD7 Note"
A26: Metered supply points by feeder category (customer type) | C26: NQR12
A27: Residential
B28: Perth CBD only | D28: Number of | E28: 3807
B29: Urban areas excluding Perth CBD | D29: Number of | E29: 561826 | F29: Figures in non-Perth CBD areas may not be comparible to previous reporting periods due to annual adjustments of SCNRRR feeder classifications
B30: Short rural | D30: Number of | E30: 443683
B31: Long rural | D31: Number of | E31: 72743
B32: Standalone power systems | D32: Number of | E32: 286
A33: Non-residential
B34: Perth CBD only | D34: Number of | E34: 2497
B35: Urban areas excluding Perth CBD | D35: Number of | E35: 73865 | F35: Figures in non-Perth CBD areas may not be comparible to previous reporting periods due to annual adjustments of SCNRRR feeder classifications
B36: Short rural | D36: Number of | E36: 45099
B37: Long rural | D37: Number of | E37: 32232
B38: Standalone power systems | D38: Number of | E38: 31
A39: Metered supply points by feeder category (supply voltage)
A40: Sub-transmission voltage
B41: Perth CBD only | D41: Number of | F41: N/A
B42: Urban areas excluding Perth CBD | D42: Number of | F42: N/A
B43: Short rural | D43: Number of | F43: N/A
B44: Long rural | D44: Number of | F44: N/A
B45: Standalone power systems | D45: Number of | F45: N/A
A46: High voltage
B47: Perth CBD only | D47: Number of | E47: 61
B48: Urban areas excluding Perth CBD | D48: Number of | E48: 323 | F48: Figures in non-Perth CBD areas may not be comparible to previous reporting periods due to annual adjustments of SCNRRR feeder classifications
B49: Short rural | D49: Number of | E49: 147
B50: Long rural | D50: Number of | E50: 31
...

Sheet CCD7 Note
A2: The number of 1,218,307 reported in 2023/24 was overstated as it included connections using more than 160MWh/annum. The correct number for 2023/24 was 1,201,896. The reporting criteria used by Western Power has been incorrect for several reporting periods because a report for connections below 160MWh was not available and incorrect assumptions were made when reporting. A newly developed report has highlighted the incorrect criteria and this report is a solid base for future reporting.
A3: The correct number of connections for the past 4 reporting periods are:
A5: Reporting period | B5: Correct number of connections for customers consuming <=160MWh/annum | C5: Incorrectly reported number of connections for customers consuming <=160MWh/annum
A6: 2024/25 | B6: 1217767 | C6: N/A
A7: 2023/24 | B7: 1201830 | C7: 1218307
A8: 2022/23 | B8: 1187816 | C8: 1205535
A9: 2021/22 | B9: 1174435 | C9: 1187153
A10: 2020/21 | B10: 1160209 | C10: 1175528
A11: 2019/20 | B11: 1136698 | C11: 1162601
A12: 2018/19 | B12: 1127499 | C12: 1152904
A13: 2017/18 | B13: 1117149 | C13: 1141308
A14: 2016/17 | B14: 1104963 | C14: 1128334
A15: 2015/16 | B15: 1087989 | C15: 1110196
A16: 2014/15 | B16: 1065432 | C16: 1085657

Sheet Data and derived distribution
A1: Reporting years | B1: FY2023-24
B2: FY2024-25
B3: FY2025-26
B4: FY2026-27
B5: FY2027-28
B6: FY2028-29
B7: FY2029-30
A9: Licencees
B10: Western Power (EDL1)
B11: BHP Nickel West Pty Ltd (EDL2)
B12: TEC Desert Pty Ltd & TEC Desert No. 2 Pty Ltd (EDL3)
B13: Peel Renewable Energy Pty Ltd (EDL7)
B14: Goldfields Power Pty Ltd (EDL8)
B15: Ocean Reef Renewable Energy Pty Ltd (EDL9)
B16: Eglinton Village Energy Pty Ltd (EDL10)
B17: Horizon Power (EIRL2)
B18: Rottnest Island Authority (EIRL3)
A21: SAIDI
A22: Overall
B23: Whole network | D23: Minutes | E23: =SUM('Distribution input form'!E168:E171)/SUM('Distribution input form'!E163:E166) -> 437.83958
B24: Perth CBD only | D24: Minutes | E24: ='Distribution input form'!E168/'Distribution input form'!E163 -> 29.667556
B25: Urban areas excluding Perth CBD | D25: Minutes | E25: ='Distribution input form'!E169/'Distribution input form'!E164 -> 298.36344
B26: Short rural | D26: Minutes | E26: ='Distribution input form'!E170/'Distribution input form'!E165 -> 409.17434
B27: Long rural | D27: Minutes | E27: ='Distribution input form'!E171/'Distribution input form'!E166 -> 1437.5938
A28: Distribution network - planned
B29: Whole network | D29: Minutes | E29: =SUM('Distribution input form'!E173:E176)/SUM('Distribution input form'!E163:E166) -> 162.57496
B30: Perth CBD only | D30: Minutes | E30: ='Distribution input form'!E173/'Distribution input form'!E163 -> 6.9628474
B31: Urban areas excluding Perth CBD | D31: Minutes | E31: ='Distribution input form'!E174/'Distribution input form'!E164 -> 117.57598
B32: Short rural | D32: Minutes | E32: ='Distribution input form'!E175/'Distribution input form'!E165 -> 143.73564
B33: Long rural | D33: Minutes | E33: ='Distribution input form'!E176/'Distribution input form'!E166 -> 530.37631
A34: Distribution network - unplanned
B35: Whole network | D35: Minutes | E35: =SUM('Distribution input form'!E178:E181)/SUM('Distribution input form'!E163:E166) -> 272.87918
B36: Perth CBD only | D36: Minutes | E36: ='Distribution input form'!E178/'Distribution input form'!E163 -> 22.116343
B37: Urban areas excluding Perth CBD | D37: Minutes | E37: ='Distribution input form'!E179/'Distribution input form'!E164 -> 179.11071
B38: Short rural | D38: Minutes | E38: ='Distribution input form'!E180/'Distribution input form'!E165 -> 262.54298
B39: Long rural | D39: Minutes | E39: ='Distribution input form'!E181/'Distribution input form'!E166 -> 902.76759
A40: Normalised distribution network
B41: Whole network | D41: Minutes | E41: =SUM('Distribution input form'!E183:E186)/SUM('Distribution input form'!E163:E166) -> 184.8216
B42: Perth CBD only | D42: Minutes | E42: ='Distribution input form'!E183/'Distribution input form'!E163 -> 22.116343
B43: Urban areas excluding Perth CBD | D43: Minutes | E43: ='Distribution input form'!E184/'Distribution input form'!E164 -> 116.52654
...
