Workbook

Sheet Distribution input form
A8: Electricity Distribution Performance Reporting Form
A10: Reporting year | B10: FY2024-25
A11: Licence holder | B11: Western Power (EDL1)
A13: Contact person name
A14: Position
A15: Email address | B15: enquiry@westernpower.com.au
A16: Phone number | B16: 13 10 87
A18: Reporting category | B18: Description | C18: Indicator | D18: Unit | E18: Data input | F18: Comments
A19: Network & Asset Information
A20: Customer connections
B21: New connections provided | C21: CCD1 | D21: Number of | E21: 20060
B22: New connections not provided by the agreed date | C22: CCD2 | D22: Number of | E22: 241
B23: Reconnections provided | C23: CCD4 | D23: Number of | E23: 29333
B24: Reconnections that were not provided within the prescribed time | C24: CCD5 | D24: Number of | E24: 73
B25: Connections on the distribution system as of June 30 | C25: CCD7 | D25: Number of | E25: 1217607 | F25: The number of 1,218,307 reported in 2023/24 was overstated as it included connections using more than 160MWh/annum. The correct number for 2023/24 was 1,201,830. The reporting criteria used by Western Power has been inaccurate for several reporting periods because a report for connections below 160MWh was not available and incorrect assumptions were made when reporting. A newly developed report has corrected the inaccuracies, and this report is a solid base for future reporting. See attached sheet "CCD7 Note"
A26: Metered supply points by feeder category (customer type) | C26: NQR12
A27: Residential
B28: Perth CBD only | D28: Number of | E28: 3807
B29: Urban areas excluding Perth CBD | D29: Number of | E29: 561826 | F29: Figures in non-Perth CBD areas may not be comparible to previous reporting periods due to annual adjustments of SCNRRR feeder classifications
B30: Short rural | D30: Number of | E30: 443683
B31: Long rural | D31: Number of | E31: 72743
B32: Standalone power systems | D32: Number of | E32: 286
A33: Non-residential
B34: Perth CBD only | D34: Number of | E34: 2497
B35: Urban areas excluding Perth CBD | D35: Number of | E35: 73865 | F35: Figures in non-Perth CBD areas may not be comparible to previous reporting periods due to annual adjustments of SCNRRR feeder classifications
B36: Short rural | D36: Number of | E36: 45099
B37: Long rural | D37: Number of | E37: 32232
B38: Standalone power systems | D38: Number of | E38: 31
A39: Metered supply points by feeder category (supply voltage)
A40: Sub-transmission voltage
B41: Perth CBD only | D41: Number of | F41: N/A
B42: Urban areas excluding Perth CBD | D42: Number of | F42: N/A
B43: Short rural | D43: Number of | F43: N/A
B44: Long rural | D44: Number of | F44: N/A
B45: Standalone power systems | D45: Number of | F45: N/A
A46: High voltage
B47: Perth CBD only | D47: Number of | E47: 61
B48: Urban areas excluding Perth CBD | D48: Number of | E48: 323 | F48: Figures in non-Perth CBD areas may not be comparible to previous reporting periods due to annual adjustments of SCNRRR feeder classifications
B49: Short rural | D49: Number of | E49: 147
B50: Long rural | D50: Number of | E50: 31
B51: Standalone power systems | D51: Number of | F51: N/A
A52: Low voltage
B53: Perth CBD only | D53: Number of | E53: 6243
B54: Urban areas excluding Perth CBD | D54: Number of | E54: 635368 | F54: Figures in non-Perth CBD areas may not be comparible to previous reporting periods due to annual adjustments of SCNRRR feeder classifications
B55: Short rural | D55: Number of | E55: 488635
B56: Long rural | D56: Number of | E56: 104944
B57: Standalone power systems | D57: Number of | E57: 317
A58: Unmetered supply points | C58: NQR13
B59: Perth CBD only | D59: Number of | E59: 437
B60: Urban areas excluding Perth CBD | D60: Number of | E60: 10522 | F60: Figures in non-Perth CBD areas may not be comparible to previous reporting periods due to annual adjustments of SCNRRR feeder classifications
B61: Short rural | D61: Number of | E61: 6878
B62: Long rural | D62: Number of | E62: 987
A63: Street lights
B64: Street lights reported faulty in the metropolitan area | C64: CCD24 | D64: Number of | E64: 37368
B65: Street lights reported faulty in regional areas | C65: CCD25 | D65: Number of | E65: 6306 | F65: The 12.7% increase in regional fault reports was partly due to 243 faults reported in bulk by two LGA's and Main Roads. The variance was also impacted by under reporting in 2023/24 which was included in 2024/25.
B66: Street lights not repaired within five days in the metropolitan area | C66: CCD26 | D66: Number of | E66: 8036
B67: Street lights not repaired within nine days in regional areas | C67: CCD28 | D67: Number of | E67: 692 | F67: Street lights not repaired within nine days in regional areas reduced from 917 in 2023/24 to 692 in 2024/25. This improvement was achieved due to changes in the reporting structure and a weekly KPI focus on managing the work. This renewed focus resulted in efficiencies being created for streetlight repairs in the regions, and the marked improvement in SLA achievement.
B68: Street lights in the metropolitan area as of June 30 | C68: CCD30 | D68: Number of | E68: 250398
B69: Street lights in regional areas as of June 30 | C69: CCD31 | D69: Number of | E69: 42473
B70: Mean number of days to repair faulty street lights in the metropolitan area | C70: CCD32 | D70: Days | E70: 4.3
B71: Mean number of days to repair faulty street lights in the regional area | C71: CCD33 | D71: Days | E71: 8.1
A72: Energy delivered by feeder category (customer type) | C72: NQR14
A73: Residential
B74: Perth CBD only | D74: GWh | E74: 17.387399
B75: Urban areas excluding Perth CBD | D75: GWh | E75: 2612.4812 | F75: Figures in non-Perth CBD areas may not be comparible to previous reporting periods due to annual adjustments of SCNRRR feeder classifications
B76: Short rural | D76: GWh | E76: 2187.4704
B77: Long rural | D77: GWh | E77: 366.94559
A78: Non-residential
B79: Perth CBD only | D79: GWh | E79: 515.49038
B80: Urban areas excluding Perth CBD | D80: GWh | E80: 5529.7976 | F80: Figures in non-Perth CBD areas may not be comparible to previous reporting periods due to annual adjustments of SCNRRR feeder classifications
B81: Short rural | D81: GWh | E81: 2586.9673
B82: Long rural | D82: GWh | E82: 811.78619
A83: Energy delivered by feeder category (supply voltage)
A84: Sub-transmission voltage
B85: Perth CBD only | D85: GWh | F85: N/A
B86: Urban areas excluding Perth CBD | D86: GWh | F86: N/A
B87: Short rural | D87: GWh | F87: N/A
B88: Long rural | D88: GWh | F88: N/A
A89: High voltage
B90: Perth CBD only | D90: GWh | E90: 211.62864
B91: Urban areas excluding Perth CBD | D91: GWh | E91: 2707.865 | F91: Figures in non-Perth CBD areas may not be comparible to previous reporting periods due to annual adjustments of SCNRRR feeder classifications
B92: Short rural | D92: GWh | E92: 986.90637
B93: Long rural | D93: GWh | E93: 182.46395
A94: Low voltage
B95: Perth CBD only | D95: GWh | E95: 311.92439
B96: Urban areas excluding Perth CBD | D96: GWh | E96: 5408.9861 | F96: Figures in non-Perth CBD areas may not be comparible to previous reporting periods due to annual adjustments of SCNRRR feeder classifications
B97: Short rural | D97: GWh | E97: 3819.7748
B98: Long rural | D98: GWh | E98: 998.77684
A99: Line length by feeder category (line type) | C99: NQR15
A100: Underground lines
B101: Perth CBD only | D101: km | E101: 240.5997
B102: Urban areas excluding Perth CBD | D102: km | E102: 13572.936 | F102: Figures in non-Perth CBD areas may not be comparible to previous reporting periods due to annual adjustments of SCNRRR feeder classifications
B103: Short rural | D103: km | E103: 13935.052
B104: Long rural | D104: km | E104: 3656.3128
A105: Overhead lines
B106: Perth CBD only | D106: km | E106: 0.20752377
B107: Urban areas excluding Perth CBD | D107: km | E107: 4676.9933 | F107: Figures in non-Perth CBD areas may not be comparible to previous reporting periods due to annual adjustments of SCNRRR feeder classifications
B108: Short rural | D108: km | E108: 11994.771
B109: Long rural | D109: km | E109: 49232.028
A110: Line length by feeder category (supply voltage)
...

Sheet CCD7 Note
A2: The number of 1,218,307 reported in 2023/24 was overstated as it included connections using more than 160MWh/annum. The correct number for 2023/24 was 1,201,896. The reporting criteria used by Western Power has been incorrect for several reporting periods because a report for connections below 160MWh was not available and incorrect assumptions were made when reporting. A newly developed report has highlighted the incorrect criteria and this report is a solid base for future reporting.
A3: The correct number of connections for the past 4 reporting periods are:
A5: Reporting period | B5: Correct number of connections for customers consuming <=160MWh/annum | C5: Incorrectly reported number of connections for customers consuming <=160MWh/annum
A6: 2024/25 | B6: 1217767 | C6: N/A
A7: 2023/24 | B7: 1201830 | C7: 1218307
A8: 2022/23 | B8: 1187816 | C8: 1205535
A9: 2021/22 | B9: 1174435 | C9: 1187153
A10: 2020/21 | B10: 1160209 | C10: 1175528
A11: 2019/20 | B11: 1136698 | C11: 1162601
A12: 2018/19 | B12: 1127499 | C12: 1152904
A13: 2017/18 | B13: 1117149 | C13: 1141308
A14: 2016/17 | B14: 1104963 | C14: 1128334
A15: 2015/16 | B15: 1087989 | C15: 1110196
A16: 2014/15 | B16: 1065432 | C16: 1085657

Sheet Data and derived distribution
A1: Reporting years | B1: FY2023-24
B2: FY2024-25
B3: FY2025-26
B4: FY2026-27
B5: FY2027-28
B6: FY2028-29
B7: FY2029-30
A9: Licencees
B10: Western Power (EDL1)
B11: BHP Nickel West Pty Ltd (EDL2)
B12: TEC Desert Pty Ltd & TEC Desert No. 2 Pty Ltd (EDL3)
B13: Peel Renewable Energy Pty Ltd (EDL7)
B14: Goldfields Power Pty Ltd (EDL8)
B15: Ocean Reef Renewable Energy Pty Ltd (EDL9)
B16: Eglinton Village Energy Pty Ltd (EDL10)
B17: Horizon Power (EIRL2)
B18: Rottnest Island Authority (EIRL3)
A21: SAIDI
A22: Overall
B23: Whole network | D23: Minutes | E23: =SUM('Distribution input form'!E168:E171)/SUM('Distribution input form'!E163:E166) -> 437.83958
B24: Perth CBD only | D24: Minutes | E24: ='Distribution input form'!E168/'Distribution input form'!E163 -> 29.667556
B25: Urban areas excluding Perth CBD | D25: Minutes | E25: ='Distribution input form'!E169/'Distribution input form'!E164 -> 298.36344
B26: Short rural | D26: Minutes | E26: ='Distribution input form'!E170/'Distribution input form'!E165 -> 409.17434
B27: Long rural | D27: Minutes | E27: ='Distribution input form'!E171/'Distribution input form'!E166 -> 1437.5938
A28: Distribution network - planned
B29: Whole network | D29: Minutes | E29: =SUM('Distribution input form'!E173:E176)/SUM('Distribution input form'!E163:E166) -> 162.57496
B30: Perth CBD only | D30: Minutes | E30: ='Distribution input form'!E173/'Distribution input form'!E163 -> 6.9628474
B31: Urban areas excluding Perth CBD | D31: Minutes | E31: ='Distribution input form'!E174/'Distribution input form'!E164 -> 117.57598
B32: Short rural | D32: Minutes | E32: ='Distribution input form'!E175/'Distribution input form'!E165 -> 143.73564
B33: Long rural | D33: Minutes | E33: ='Distribution input form'!E176/'Distribution input form'!E166 -> 530.37631
A34: Distribution network - unplanned
B35: Whole network | D35: Minutes | E35: =SUM('Distribution input form'!E178:E181)/SUM('Distribution input form'!E163:E166) -> 272.87918
B36: Perth CBD only | D36: Minutes | E36: ='Distribution input form'!E178/'Distribution input form'!E163 -> 22.116343
B37: Urban areas excluding Perth CBD | D37: Minutes | E37: ='Distribution input form'!E179/'Distribution input form'!E164 -> 179.11071
B38: Short rural | D38: Minutes | E38: ='Distribution input form'!E180/'Distribution input form'!E165 -> 262.54298
B39: Long rural | D39: Minutes | E39: ='Distribution input form'!E181/'Distribution input form'!E166 -> 902.76759
A40: Normalised distribution network
B41: Whole network | D41: Minutes | E41: =SUM('Distribution input form'!E183:E186)/SUM('Distribution input form'!E163:E166) -> 184.8216
B42: Perth CBD only | D42: Minutes | E42: ='Distribution input form'!E183/'Distribution input form'!E163 -> 22.116343
B43: Urban areas excluding Perth CBD | D43: Minutes | E43: ='Distribution input form'!E184/'Distribution input form'!E164 -> 116.52654
B44: Short rural | D44: Minutes | E44: ='Distribution input form'!E185/'Distribution input form'!E165 -> 169.43176
B45: Long rural | D45: Minutes | E45: ='Distribution input form'!E186/'Distribution input form'!E166 -> 678.37329
A46: SAIFI
A47: Overall
B48: Whole network | D48: Number of | E48: =SUM('Distribution input form'!E188:E191)/SUM('Distribution input form'!E163:E166) -> 2.6919885
B49: Perth CBD only | D49: Number of | E49: ='Distribution input form'!E188/'Distribution input form'!E163 -> 0.77375919
B50: All urban areas | D50: Number of | E50: ='Distribution input form'!E189/'Distribution input form'!E164 -> 1.8898202
B51: Short rural | D51: Number of | E51: ='Distribution input form'!E190/'Distribution input form'!E165 -> 2.8608007
B52: Long rural | D52: Number of | E52: ='Distribution input form'!E191/'Distribution input form'!E166 -> 6.8911053
A53: Distribution network - planned
B54: Whole network | D54: Number of | E54: =SUM('Distribution input form'!E194:E197)/SUM('Distribution input form'!E163:E166) -> 0.51463048
B55: Perth CBD only | D55: Number of | E55: ='Distribution input form'!E193/'Distribution input form'!E163 -> 0.019869453
B56: All urban areas | D56: Number of | E56: ='Distribution input form'!E194/'Distribution input form'!E164 -> 0.38151084
B57: Short rural | D57: Number of | E57: ='Distribution input form'!E195/'Distribution input form'!E165 -> 0.46188097
B58: Long rural | D58: Number of | E58: ='Distribution input form'!E196/'Distribution input form'!E166 -> 1.5922265
A59: Distribution network - unplanned
B60: Whole network | D60: Number of | E60: =SUM('Distribution input form'!E198:E201)/SUM('Distribution input form'!E163:E166) -> 2.1566037
B61: Perth CBD only | D61: Number of | E61: ='Distribution input form'!E198/'Distribution input form'!E163 -> 0.74452974
B62: All urban areas | D62: Number of | E62: ='Distribution input form'!E199/'Distribution input form'!E164 -> 1.4965575
B63: Short rural | D63: Number of | E63: ='Distribution input form'!E200/'Distribution input form'!E165 -> 2.3661963
B64: Long rural | D64: Number of | E64: ='Distribution input form'!E201/'Distribution input form'!E166 -> 5.2788178
A65: Normalised distribution network
B66: Whole network | D66: Number of | E66: =SUM('Distribution input form'!E203:E206)/SUM('Distribution input form'!E163:E166) -> 1.9392038
B67: Perth CBD only | D67: Number of | E67: ='Distribution input form'!F203/'Distribution input form'!E163 -> 0
B68: All urban areas | D68: Number of | E68: ='Distribution input form'!F204/'Distribution input form'!E164 -> 0
B69: Short rural | D69: Number of | E69: ='Distribution input form'!F205/'Distribution input form'!E165 -> 0
B70: Long rural | D70: Number of | E70: ='Distribution input form'!F206/'Distribution input form'!E166 -> 0
A71: CAIDI
A72: Cumulative duration of customer outages (net total)
B73: Whole network | D73: SAIDI/SAIFI | E73: =E23/E48 -> 162.64542
B74: Perth CBD only | D74: SAIDI/SAIFI | E74: =E24/E49 -> 38.342105
B75: All urban areas | D75: SAIDI/SAIFI | E75: =E25/E50 -> 157.87927
B76: Short rural | D76: SAIDI/SAIFI | E76: =E26/E51 -> 143.02791
B77: Long rural | D77: SAIDI/SAIFI | E77: =E27/E52 -> 208.61585
A78: Cumulative duration of customer outages (distribution network - planned)
B79: Whole network | D79: SAIDI/SAIFI | E79: =E29/E54 -> 315.90621
B80: Perth CBD only | D80: SAIDI/SAIFI | E80: =E30/E55 -> 350.42975
B81: All urban areas | D81: SAIDI/SAIFI | E81: =E31/E56 -> 308.18516
B82: Short rural | D82: SAIDI/SAIFI | E82: =E32/E57 -> 311.19629
B83: Long rural | D83: SAIDI/SAIFI | E83: =E33/E58 -> 333.10357
A84: Cumulative duration of customer outages (distribution network - unplanned)
B85: Whole network | D85: SAIDI/SAIFI | E85: =E35/E60 -> 126.53191
B86: Perth CBD only | D86: SAIDI/SAIFI | E86: =E36/E61 -> 29.705117
B87: All urban areas | D87: SAIDI/SAIFI | E87: =E37/E62 -> 119.68181
B88: Short rural | D88: SAIDI/SAIFI | E88: =E38/E63 -> 110.9557
B89: Long rural | D89: SAIDI/SAIFI | E89: =E39/E64 -> 171.017
A90: Cumulative duration of customer outages (normalised distribution network)
B91: Whole network | D91: SAIDI/SAIFI | E91: =E41/E66 -> 95.307982
B92: Perth CBD only | D92: SAIDI/SAIFI | E92: =E42/E67 -> #DIV/0!
B93: All urban areas | D93: SAIDI/SAIFI | E93: =E43/E68 -> #DIV/0!
B94: Short rural | D94: SAIDI/SAIFI | E94: =E44/E69 -> #DIV/0!
B95: Long rural | D95: SAIDI/SAIFI | E95: =E45/E70 -> #DIV/0!
